BEGIN:VCALENDAR
VERSION:2.0
PRODID:-//Indiana Society of Professional Land Surveyors - ECPv6.15.20//NONSGML v1.0//EN
CALSCALE:GREGORIAN
METHOD:PUBLISH
X-ORIGINAL-URL:https://ispls.org
X-WR-CALDESC:Events for Indiana Society of Professional Land Surveyors
REFRESH-INTERVAL;VALUE=DURATION:PT1H
X-Robots-Tag:noindex
X-PUBLISHED-TTL:PT1H
BEGIN:VTIMEZONE
TZID:America/Indiana/Indianapolis
BEGIN:DAYLIGHT
TZOFFSETFROM:-0500
TZOFFSETTO:-0400
TZNAME:EDT
DTSTART:20240310T070000
END:DAYLIGHT
BEGIN:STANDARD
TZOFFSETFROM:-0400
TZOFFSETTO:-0500
TZNAME:EST
DTSTART:20241103T060000
END:STANDARD
BEGIN:DAYLIGHT
TZOFFSETFROM:-0500
TZOFFSETTO:-0400
TZNAME:EDT
DTSTART:20250309T070000
END:DAYLIGHT
BEGIN:STANDARD
TZOFFSETFROM:-0400
TZOFFSETTO:-0500
TZNAME:EST
DTSTART:20251102T060000
END:STANDARD
BEGIN:DAYLIGHT
TZOFFSETFROM:-0500
TZOFFSETTO:-0400
TZNAME:EDT
DTSTART:20260308T070000
END:DAYLIGHT
BEGIN:STANDARD
TZOFFSETFROM:-0400
TZOFFSETTO:-0500
TZNAME:EST
DTSTART:20261101T060000
END:STANDARD
END:VTIMEZONE
BEGIN:VEVENT
DTSTART;TZID=America/Indiana/Indianapolis:20250808T000000
DTEND;TZID=America/Indiana/Indianapolis:20250808T235959
DTSTAMP:20260424T132456
CREATED:20250423T142809Z
LAST-MODIFIED:20250423T142847Z
UID:26531-1754611200-1754697599@ispls.org
SUMMARY:Ordell L. Gertsmeier Memorial Scholarship Golf Tournament
DESCRIPTION:When: Friday\, August 8\, 2025 \n\nRegistration – 9 a.m.\nStart – 10 a.m.\n\nWhere: River Pointe County Club (6700 Country Club Rd\, Hobart\, IN 46342) \nRegister:
URL:https://ispls.org/event/ordell-l-gertsmeier-memorial-scholarship-golf-tournament/
LOCATION:River Pointe Country Club\, 6700 Country Club Road\, Hobart\, IN\, 46342\, United States
END:VEVENT
END:VCALENDAR