BEGIN:VCALENDAR
VERSION:2.0
PRODID:-//Indiana Society of Professional Land Surveyors - ECPv6.15.20//NONSGML v1.0//EN
CALSCALE:GREGORIAN
METHOD:PUBLISH
X-ORIGINAL-URL:https://ispls.org
X-WR-CALDESC:Events for Indiana Society of Professional Land Surveyors
REFRESH-INTERVAL;VALUE=DURATION:PT1H
X-Robots-Tag:noindex
X-PUBLISHED-TTL:PT1H
BEGIN:VTIMEZONE
TZID:America/Indiana/Indianapolis
BEGIN:DAYLIGHT
TZOFFSETFROM:-0500
TZOFFSETTO:-0400
TZNAME:EDT
DTSTART:20230312T070000
END:DAYLIGHT
BEGIN:STANDARD
TZOFFSETFROM:-0400
TZOFFSETTO:-0500
TZNAME:EST
DTSTART:20231105T060000
END:STANDARD
BEGIN:DAYLIGHT
TZOFFSETFROM:-0500
TZOFFSETTO:-0400
TZNAME:EDT
DTSTART:20240310T070000
END:DAYLIGHT
BEGIN:STANDARD
TZOFFSETFROM:-0400
TZOFFSETTO:-0500
TZNAME:EST
DTSTART:20241103T060000
END:STANDARD
BEGIN:DAYLIGHT
TZOFFSETFROM:-0500
TZOFFSETTO:-0400
TZNAME:EDT
DTSTART:20250309T070000
END:DAYLIGHT
BEGIN:STANDARD
TZOFFSETFROM:-0400
TZOFFSETTO:-0500
TZNAME:EST
DTSTART:20251102T060000
END:STANDARD
END:VTIMEZONE
BEGIN:VEVENT
DTSTART;TZID=America/Indiana/Indianapolis:20241010T143000
DTEND;TZID=America/Indiana/Indianapolis:20241010T170000
DTSTAMP:20260425T083230
CREATED:20240514T225715Z
LAST-MODIFIED:20250228T193739Z
UID:923-1728570600-1728579600@ispls.org
SUMMARY:Northwest Chapter Meeting
DESCRIPTION:Meeting Date:          Thursday\, October 10\, 2024 (Second Thursday) \n  \nMeeting Place:        Carriage Court Pizza/Crown Brewing\, Crown Point\, Indiana (219-663-6551) \n                                    (South of Centier Bank) \n  \nMeeting Program:  Glen E. Boren\, PS\, CST 1 | Director of Commercial Surveying\, DVG Team\,  \n                                    “Plat Review – 2024” \n  \nMeeting Time: \n\n6:30 p.m. Cocktails/Start Business Meeting\n7:00 p.m. Dinner – Pizza Buffet $25+ per person\, Beer on your own\n8:00 p.m. Program\n\n  \nIt has become necessary to determine meeting attendance numbers prior to the day of the meeting.  This will assist the Chapter and the restaurant in planning for the meeting.  Therefore\, please call\, fax or email one or both of the following by Tuesday\, October 8\, 2024 if you plan to attend. \n  \nRich Hudson \nPhone:  (219) 462-2946 (Cell/Text) \nEmail:  rickandcal@comcast.net \n  \nGlen Boren \nPhone:  (219) 616-3191 (Cell) \nFax:  (219) 662-2740 (Bus) \nEmail:  gboren@dvgteam.com
URL:https://ispls.org/event/northwest-chapter-meeting-2/
CATEGORIES:Chapter Meetings
END:VEVENT
END:VCALENDAR