BEGIN:VCALENDAR
VERSION:2.0
PRODID:-//Indiana Society of Professional Land Surveyors - ECPv6.15.20//NONSGML v1.0//EN
CALSCALE:GREGORIAN
METHOD:PUBLISH
X-WR-CALNAME:Indiana Society of Professional Land Surveyors
X-ORIGINAL-URL:https://ispls.org
X-WR-CALDESC:Events for Indiana Society of Professional Land Surveyors
REFRESH-INTERVAL;VALUE=DURATION:PT1H
X-Robots-Tag:noindex
X-PUBLISHED-TTL:PT1H
BEGIN:VTIMEZONE
TZID:America/Indiana/Indianapolis
BEGIN:DAYLIGHT
TZOFFSETFROM:-0500
TZOFFSETTO:-0400
TZNAME:EDT
DTSTART:20240310T070000
END:DAYLIGHT
BEGIN:STANDARD
TZOFFSETFROM:-0400
TZOFFSETTO:-0500
TZNAME:EST
DTSTART:20241103T060000
END:STANDARD
BEGIN:DAYLIGHT
TZOFFSETFROM:-0500
TZOFFSETTO:-0400
TZNAME:EDT
DTSTART:20250309T070000
END:DAYLIGHT
BEGIN:STANDARD
TZOFFSETFROM:-0400
TZOFFSETTO:-0500
TZNAME:EST
DTSTART:20251102T060000
END:STANDARD
BEGIN:DAYLIGHT
TZOFFSETFROM:-0500
TZOFFSETTO:-0400
TZNAME:EDT
DTSTART:20260308T070000
END:DAYLIGHT
BEGIN:STANDARD
TZOFFSETFROM:-0400
TZOFFSETTO:-0500
TZNAME:EST
DTSTART:20261101T060000
END:STANDARD
END:VTIMEZONE
BEGIN:VEVENT
DTSTART;TZID=America/Indiana/Indianapolis:20250920T060000
DTEND;TZID=America/Indiana/Indianapolis:20250920T103000
DTSTAMP:20260424T081826
CREATED:20250702T113612Z
LAST-MODIFIED:20250910T165235Z
UID:26714-1758348000-1758364200@ispls.org
SUMMARY:Hoosier Hills Chapter: Shooting for Scholarships
DESCRIPTION:Shooting for Scholarships: Sporting Clays Tournament\nSaturday\, September 20\, 2025 at 10am \nSugar Creek Sporting Clays & Hunting Preserve in Mitchell\, IN \nProceeds benefits the Hoosier Hills Scholarship Fund \nShooters of all experience levels are welcome to enjoy a day of friendly competition at Sugar Creek Sporting Clays in beautiful southern Indiana. Come hit some birds and have fun! \nAll team and individual shooter registration fees include a 100-clay shoot\, ammunition (12 or 20 gauge only)\, golf cart\, lunch\, beverages\, and an event souvenir. \n\nIndividual Shooter: $225\nTeam of Four Shooters: $800\nShooting Station Sponsor with Recognition $250\nBuy a Bird (extra shot mulligans): $10 each (3 max) (Purchase an extra shot to be used in place of a miss)\nTop shot at Pre-determined Station: $25 (optional) (Compete for the top score at a station)\n\nThe course is walkable\, and a limited number of carts are available on a first-come\, first-served basis. Shooters are encouraged to bring their own golf cart or UTV. \nTrophies for the winning team\, overall top shooter\, and top shot at the optional station competition. \nSchedule of Events (Rain or Shine)\n\n9:00 am : Club Opens for Arrival\n10:00 am : Tournament Starts\n12:30 pm : Lunch & Drinks\n1:30 pm : Awards Ceremony\n\nRegister Here\nFor questions or to register by email and pay by check\, contact hoosierhillsispls@gmail.com
URL:https://ispls.org/event/hoosier-hills-chapter-shooting-for-scholarships-2/
LOCATION:Sugar Creek Sporting Clays & Hunting Preserve\, 2285 Bono Rd\, Mitchell\, IN\, 47446\, United States
END:VEVENT
END:VCALENDAR