BEGIN:VCALENDAR
VERSION:2.0
PRODID:-//Indiana Society of Professional Land Surveyors - ECPv6.15.20//NONSGML v1.0//EN
CALSCALE:GREGORIAN
METHOD:PUBLISH
X-WR-CALNAME:Indiana Society of Professional Land Surveyors
X-ORIGINAL-URL:https://ispls.org
X-WR-CALDESC:Events for Indiana Society of Professional Land Surveyors
REFRESH-INTERVAL;VALUE=DURATION:PT1H
X-Robots-Tag:noindex
X-PUBLISHED-TTL:PT1H
BEGIN:VTIMEZONE
TZID:America/Indiana/Indianapolis
BEGIN:DAYLIGHT
TZOFFSETFROM:-0500
TZOFFSETTO:-0400
TZNAME:EDT
DTSTART:20230312T070000
END:DAYLIGHT
BEGIN:STANDARD
TZOFFSETFROM:-0400
TZOFFSETTO:-0500
TZNAME:EST
DTSTART:20231105T060000
END:STANDARD
BEGIN:DAYLIGHT
TZOFFSETFROM:-0500
TZOFFSETTO:-0400
TZNAME:EDT
DTSTART:20240310T070000
END:DAYLIGHT
BEGIN:STANDARD
TZOFFSETFROM:-0400
TZOFFSETTO:-0500
TZNAME:EST
DTSTART:20241103T060000
END:STANDARD
BEGIN:DAYLIGHT
TZOFFSETFROM:-0500
TZOFFSETTO:-0400
TZNAME:EDT
DTSTART:20250309T070000
END:DAYLIGHT
BEGIN:STANDARD
TZOFFSETFROM:-0400
TZOFFSETTO:-0500
TZNAME:EST
DTSTART:20251102T060000
END:STANDARD
END:VTIMEZONE
BEGIN:VEVENT
DTSTART;TZID=America/Indiana/Indianapolis:20241003T070000
DTEND;TZID=America/Indiana/Indianapolis:20241003T150000
DTSTAMP:20260425T061851
CREATED:20240820T162813Z
LAST-MODIFIED:20250228T193746Z
UID:25227-1727938800-1727967600@ispls.org
SUMMARY:CIC Annual Golf Outing
DESCRIPTION:This event is open to all ISPLS members\, not just CIC Chapter members. \nCost: $125.00 per player – No Refunds \nIncludes 18 hole-greens fees\, cart\, box lunch before golf and dinner after golf \nPlease fill out this registration form \nSponsorship Levels:\n\nGold – $550 Sign + Foursome\nSilver – $135 Sign Only\nTeam – $500 team of 4\n\nAll proceeds benefit the scholarship fund\, workforce development\, or the promotion of the land surveying profession.
URL:https://ispls.org/event/cic-annual-golf-outing/
LOCATION:Dye’s Walk Country Club\, 2080 S State Road 135\, Greenwood\, IN\, 46143\, United States
END:VEVENT
END:VCALENDAR