BEGIN:VCALENDAR
VERSION:2.0
PRODID:-//Indiana Society of Professional Land Surveyors - ECPv6.15.20//NONSGML v1.0//EN
CALSCALE:GREGORIAN
METHOD:PUBLISH
X-ORIGINAL-URL:https://ispls.org
X-WR-CALDESC:Events for Indiana Society of Professional Land Surveyors
REFRESH-INTERVAL;VALUE=DURATION:PT1H
X-Robots-Tag:noindex
X-PUBLISHED-TTL:PT1H
BEGIN:VTIMEZONE
TZID:America/Indiana/Indianapolis
BEGIN:DAYLIGHT
TZOFFSETFROM:-0500
TZOFFSETTO:-0400
TZNAME:EDT
DTSTART:20230312T070000
END:DAYLIGHT
BEGIN:STANDARD
TZOFFSETFROM:-0400
TZOFFSETTO:-0500
TZNAME:EST
DTSTART:20231105T060000
END:STANDARD
BEGIN:DAYLIGHT
TZOFFSETFROM:-0500
TZOFFSETTO:-0400
TZNAME:EDT
DTSTART:20240310T070000
END:DAYLIGHT
BEGIN:STANDARD
TZOFFSETFROM:-0400
TZOFFSETTO:-0500
TZNAME:EST
DTSTART:20241103T060000
END:STANDARD
BEGIN:DAYLIGHT
TZOFFSETFROM:-0500
TZOFFSETTO:-0400
TZNAME:EDT
DTSTART:20250309T070000
END:DAYLIGHT
BEGIN:STANDARD
TZOFFSETFROM:-0400
TZOFFSETTO:-0500
TZNAME:EST
DTSTART:20251102T060000
END:STANDARD
END:VTIMEZONE
BEGIN:VEVENT
DTSTART;TZID=America/Indiana/Indianapolis:20240620T140000
DTEND;TZID=America/Indiana/Indianapolis:20240620T160000
DTSTAMP:20260425T125200
CREATED:20240618T174211Z
LAST-MODIFIED:20250228T193908Z
UID:1067-1718892000-1718899200@ispls.org
SUMMARY:CIC Chapter Meeting & Continuing Ed Opportunity
DESCRIPTION:Brief business meeting followed by Gary Kent’s “Surveyor in Jeopardy” continuing education presentation. Open to all ISPLS members. \nThursday June 20th an 6pm \nAmerican Structurepoint \n9025 River Road \nIndianapolis\, IN \nRSVP here: https://forms.office.com/r/TTrcSGUscW
URL:https://ispls.org/event/cic-chapter-meeting-continuing-ed-opportunity/
LOCATION:American Structurepoint\, 9025 River Road\, Indianapolis\, IN\, United States
END:VEVENT
END:VCALENDAR