BEGIN:VCALENDAR
VERSION:2.0
PRODID:-//Indiana Society of Professional Land Surveyors - ECPv6.15.20//NONSGML v1.0//EN
CALSCALE:GREGORIAN
METHOD:PUBLISH
X-WR-CALNAME:Indiana Society of Professional Land Surveyors
X-ORIGINAL-URL:https://ispls.org
X-WR-CALDESC:Events for Indiana Society of Professional Land Surveyors
REFRESH-INTERVAL;VALUE=DURATION:PT1H
X-Robots-Tag:noindex
X-PUBLISHED-TTL:PT1H
BEGIN:VTIMEZONE
TZID:America/Indiana/Indianapolis
BEGIN:DAYLIGHT
TZOFFSETFROM:-0500
TZOFFSETTO:-0400
TZNAME:EDT
DTSTART:20240310T070000
END:DAYLIGHT
BEGIN:STANDARD
TZOFFSETFROM:-0400
TZOFFSETTO:-0500
TZNAME:EST
DTSTART:20241103T060000
END:STANDARD
BEGIN:DAYLIGHT
TZOFFSETFROM:-0500
TZOFFSETTO:-0400
TZNAME:EDT
DTSTART:20250309T070000
END:DAYLIGHT
BEGIN:STANDARD
TZOFFSETFROM:-0400
TZOFFSETTO:-0500
TZNAME:EST
DTSTART:20251102T060000
END:STANDARD
BEGIN:DAYLIGHT
TZOFFSETFROM:-0500
TZOFFSETTO:-0400
TZNAME:EDT
DTSTART:20260308T070000
END:DAYLIGHT
BEGIN:STANDARD
TZOFFSETFROM:-0400
TZOFFSETTO:-0500
TZNAME:EST
DTSTART:20261101T060000
END:STANDARD
END:VTIMEZONE
BEGIN:VEVENT
DTSTART;TZID=America/Indiana/Indianapolis:20250313T000000
DTEND;TZID=America/Indiana/Indianapolis:20250313T235959
DTSTAMP:20260424T160258
CREATED:20250130T131950Z
LAST-MODIFIED:20250306T153705Z
UID:25945-1741824000-1741910399@ispls.org
SUMMARY:Northwest Chapter Meeting
DESCRIPTION:WHEN: Thursday\, March 13\, 2025 \nWHERE: Kelsey’s Steak & Seafood (2300 E Morthland Dr\, Valparaiso\, IN 46383) \nPROGRAM: \n\n“ALTA Surveys from a Title Company’s Perspective” with Cindy Finley and Terri Lawson from Meridian Title\n\n  \nEmail Rich Hudson (rich.hudson@porterco.org ) to RSVP.
URL:https://ispls.org/event/northwest-chapter-meeting-3-13-25/
LOCATION:Kelsey’s Steak House\, 2300 Morthland Dr\, Valparaiso\, IN\, 46383\, United States
CATEGORIES:Chapter Meetings
END:VEVENT
END:VCALENDAR