BEGIN:VCALENDAR
VERSION:2.0
PRODID:-//Indiana Society of Professional Land Surveyors - ECPv6.15.20//NONSGML v1.0//EN
CALSCALE:GREGORIAN
METHOD:PUBLISH
X-WR-CALNAME:Indiana Society of Professional Land Surveyors
X-ORIGINAL-URL:https://ispls.org
X-WR-CALDESC:Events for Indiana Society of Professional Land Surveyors
REFRESH-INTERVAL;VALUE=DURATION:PT1H
X-Robots-Tag:noindex
X-PUBLISHED-TTL:PT1H
BEGIN:VTIMEZONE
TZID:America/Indiana/Indianapolis
BEGIN:DAYLIGHT
TZOFFSETFROM:-0500
TZOFFSETTO:-0400
TZNAME:EDT
DTSTART:20250309T070000
END:DAYLIGHT
BEGIN:STANDARD
TZOFFSETFROM:-0400
TZOFFSETTO:-0500
TZNAME:EST
DTSTART:20251102T060000
END:STANDARD
BEGIN:DAYLIGHT
TZOFFSETFROM:-0500
TZOFFSETTO:-0400
TZNAME:EDT
DTSTART:20260308T070000
END:DAYLIGHT
BEGIN:STANDARD
TZOFFSETFROM:-0400
TZOFFSETTO:-0500
TZNAME:EST
DTSTART:20261101T060000
END:STANDARD
BEGIN:DAYLIGHT
TZOFFSETFROM:-0500
TZOFFSETTO:-0400
TZNAME:EDT
DTSTART:20270314T070000
END:DAYLIGHT
BEGIN:STANDARD
TZOFFSETFROM:-0400
TZOFFSETTO:-0500
TZNAME:EST
DTSTART:20271107T060000
END:STANDARD
END:VTIMEZONE
BEGIN:VEVENT
DTSTART;TZID=America/Indiana/Indianapolis:20260715T000000
DTEND;TZID=America/Indiana/Indianapolis:20260715T235959
DTSTAMP:20260423T193119
CREATED:20260106T204645Z
LAST-MODIFIED:20260106T204645Z
UID:27205-1784073600-1784159999@ispls.org
SUMMARY:Northeast Chapter Meeting
DESCRIPTION:Date: Wednesday\, July 15\, 2026 \nTime: TBD \nPlace: On the Mark Land Surveying Office
URL:https://ispls.org/event/northeast-chapter-meeting-7-15-26/
LOCATION:On The Mark Land Surveying Office\, 7729 Westfield Drive\, Fort Wayne\, IN\, 46825\, United States
CATEGORIES:Chapter Meetings
END:VEVENT
BEGIN:VEVENT
DTSTART;TZID=America/Indiana/Indianapolis:20260911T000000
DTEND;TZID=America/Indiana/Indianapolis:20260911T235959
DTSTAMP:20260423T193119
CREATED:20260106T205507Z
LAST-MODIFIED:20260106T205507Z
UID:27208-1789084800-1789171199@ispls.org
SUMMARY:Northeast Chapter Annual Golf Outing
DESCRIPTION:Save the date! More details coming soon. \nDate: Friday\, September 11\, 2026 \nTime: TBD \nPlace: TBD
URL:https://ispls.org/event/northeast-chapter-annual-golf-outing/
END:VEVENT
BEGIN:VEVENT
DTSTART;TZID=America/Indiana/Indianapolis:20261216T000000
DTEND;TZID=America/Indiana/Indianapolis:20261216T235959
DTSTAMP:20260423T193119
CREATED:20260106T205719Z
LAST-MODIFIED:20260106T205719Z
UID:27210-1797379200-1797465599@ispls.org
SUMMARY:Northeast Chapter Christmas Dinner
DESCRIPTION:Save the date! More details coming soon. \nDate: Wednesday\, December 16\, 2026 \nTime: TBD \nPlace: TBD
URL:https://ispls.org/event/northeast-chapter-christmas-dinner/
END:VEVENT
END:VCALENDAR