BEGIN:VCALENDAR
VERSION:2.0
PRODID:-//Indiana Society of Professional Land Surveyors - ECPv6.15.20//NONSGML v1.0//EN
CALSCALE:GREGORIAN
METHOD:PUBLISH
X-WR-CALNAME:Indiana Society of Professional Land Surveyors
X-ORIGINAL-URL:https://ispls.org
X-WR-CALDESC:Events for Indiana Society of Professional Land Surveyors
REFRESH-INTERVAL;VALUE=DURATION:PT1H
X-Robots-Tag:noindex
X-PUBLISHED-TTL:PT1H
BEGIN:VTIMEZONE
TZID:America/Indiana/Indianapolis
BEGIN:DAYLIGHT
TZOFFSETFROM:-0500
TZOFFSETTO:-0400
TZNAME:EDT
DTSTART:20230312T070000
END:DAYLIGHT
BEGIN:STANDARD
TZOFFSETFROM:-0400
TZOFFSETTO:-0500
TZNAME:EST
DTSTART:20231105T060000
END:STANDARD
BEGIN:DAYLIGHT
TZOFFSETFROM:-0500
TZOFFSETTO:-0400
TZNAME:EDT
DTSTART:20240310T070000
END:DAYLIGHT
BEGIN:STANDARD
TZOFFSETFROM:-0400
TZOFFSETTO:-0500
TZNAME:EST
DTSTART:20241103T060000
END:STANDARD
BEGIN:DAYLIGHT
TZOFFSETFROM:-0500
TZOFFSETTO:-0400
TZNAME:EDT
DTSTART:20250309T070000
END:DAYLIGHT
BEGIN:STANDARD
TZOFFSETFROM:-0400
TZOFFSETTO:-0500
TZNAME:EST
DTSTART:20251102T060000
END:STANDARD
BEGIN:DAYLIGHT
TZOFFSETFROM:-0500
TZOFFSETTO:-0400
TZNAME:EDT
DTSTART:20260308T070000
END:DAYLIGHT
BEGIN:STANDARD
TZOFFSETFROM:-0400
TZOFFSETTO:-0500
TZNAME:EST
DTSTART:20261101T060000
END:STANDARD
BEGIN:DAYLIGHT
TZOFFSETFROM:-0500
TZOFFSETTO:-0400
TZNAME:EDT
DTSTART:20270314T070000
END:DAYLIGHT
BEGIN:STANDARD
TZOFFSETFROM:-0400
TZOFFSETTO:-0500
TZNAME:EST
DTSTART:20271107T060000
END:STANDARD
END:VTIMEZONE
BEGIN:VEVENT
DTSTART;TZID=America/Indiana/Indianapolis:20260318T000000
DTEND;TZID=America/Indiana/Indianapolis:20260318T235959
DTSTAMP:20260423T162703
CREATED:20260106T204446Z
LAST-MODIFIED:20260218T180534Z
UID:27203-1773792000-1773878399@ispls.org
SUMMARY:Northeast Chapter Meeting
DESCRIPTION:Date: Wednesday\, March 18\, 2026 \nTime: 6:00 – 8:00 p.m. \nPlace: The Fairfield \nAgenda: \n\nSocializing with colleagues\, Todd Jamison & BJ Rhea\, along with the fun of Duckpin Bowling\nA presentation about Trimble Tech\nIf you would like a product demonstrated\, please contact Todd or BJ for a later date.\n\nPlease RSVP by March 3rd\, as we have to give them numbers for the food. Email: angwallace4@gmail.com
URL:https://ispls.org/event/northeast-chapter-meeting-3-18-26/
LOCATION:The Fairfield\, 1510 Fairfield Ave\, Fort Wayne\, 46802\, United States
CATEGORIES:Chapter Meetings
END:VEVENT
BEGIN:VEVENT
DTSTART;TZID=America/Indiana/Indianapolis:20251222T173000
DTEND;TZID=America/Indiana/Indianapolis:20251222T193000
DTSTAMP:20260423T162703
CREATED:20251205T171038Z
LAST-MODIFIED:20251205T171038Z
UID:27183-1766424600-1766431800@ispls.org
SUMMARY:Northeast Chapter Meeting
DESCRIPTION:Date: Monday\, December 22\, 2025 \nTime: 5:30 pm \nPlace: On the Mark Land Surveying Office (7729 Westfield Drive\, Fort Wayne\, IN 46825) \nPlease RSVP by 12/16 @ noon to angwallace4@gmail.com \n  \nMenu: Ordering Casa’s (RSVP to be included for food) \nBuffet Style – Lasagna Pan\, Penne Bianco Pan\, and Insalata Casaburo (Casa Salad) \nBring your own beverage \n  \nAgenda: \n\nPlans for next year’s meeting and format\nElect next year’s officers\nPlanning for 2027 Convention in Fort Wayne – volunteers needed\nDiscussion of your choice
URL:https://ispls.org/event/northeast-chapter-meeting-12-22-25/
LOCATION:On The Mark Land Surveying Office\, 7729 Westfield Drive\, Fort Wayne\, IN\, 46825\, United States
CATEGORIES:Chapter Meetings
END:VEVENT
BEGIN:VEVENT
DTSTART;TZID=America/Indiana/Indianapolis:20250416T190000
DTEND;TZID=America/Indiana/Indianapolis:20250416T220000
DTSTAMP:20260423T162703
CREATED:20250130T132057Z
LAST-MODIFIED:20250401T155020Z
UID:25947-1744830000-1744840800@ispls.org
SUMMARY:Northwest Chapter Meeting
DESCRIPTION:Meeting Date: Thursday\, April 16\, 2025 \nMeeting Place: Aurelio’s Pizza (18162 Harwood Avenue\, Homewood\, IL 60430) \nMeeting Program: Annual Joint Surveyors Chapter Meeting with the Northeast Chapter of the IPLSA \nSpeaker: Gary Kent\, PS; subject TBD \nMeeting Time: \n\n6:00 p.m. – Social Time\n7:00 p.m. – 9:00 p.m. – Dinner and Meeting\n\nDinner Details: $40 per person (please bring cash\, or a check made out to the Northwest Chapter of ISPLS) \nDinner will be buffet style. 4 pizzas (sausage/cheese\, sausage/pep\, vegetarian\, pepperoni). We will also have garlic bread\, cheese sticks\, wings and chicken fettuccini. There will also be pasta salad as well as Caesar salad. \nThe cost covers the rental of the room and the buffet-style food as well as covering a small stipend for Gary’s per diem and travel costs. Please reach out if you have any questions. \n  \nIt has become necessary to determine meeting attendance numbers before the day of the meeting.  This will assist the Chapter and the restaurant in planning for the meeting.  Therefore\, please call or email the following by Monday\, April 14\, 2025 if you plan to attend.  Each chapter is limited to 40 attendees as room capacity is limited to 80 people.  RSVP as soon as possible! \n  \nRich Hudson \nPhone:  (219) 462-2946 (Cell) \nEmail:  rickandcal@comcast.net \n 
URL:https://ispls.org/event/northwest-chapter-meeting-4-16-25/
LOCATION:Aurelio’s Pizza\, 18162 Harwood Avenue\, Homewood\, IL\, 60430\, United States
CATEGORIES:Chapter Meetings
END:VEVENT
BEGIN:VEVENT
DTSTART;TZID=America/Indiana/Indianapolis:20250325T170000
DTEND;TZID=America/Indiana/Indianapolis:20250325T193000
DTSTAMP:20260423T162703
CREATED:20250228T192806Z
LAST-MODIFIED:20250228T193509Z
UID:26242-1742922000-1742931000@ispls.org
SUMMARY:Northeast Chapter Meeting
DESCRIPTION:WHEN: Tuesday\, March 25\, 2025 | 5:30 PM \nWHERE: Summit Grill (6525 Covington Road\, Fort Wayne\, IN 46804) \nPROGRAM: \n\nMembers to represent Chapter for 2027 Convention\n1/8 Corners\nStatus of Allen County Section Corners\nScholarship committee to decide on when to offer scholarship for 2025\nTim Gouloff to bring in a survey to discuss\n\nPLEASE RSVP BY MONDAY\, MARCH 24 @ NOON \nEmail Angie Wallace (angwallace4@gmail.com) to RSVP.
URL:https://ispls.org/event/northeast-chapter-meeting-3-25-25/
LOCATION:Summit Grill\, 6525 Covington Road\, Fort Wayne\, IN\, 46804\, United States
END:VEVENT
BEGIN:VEVENT
DTSTART;TZID=America/Indiana/Indianapolis:20241215T190000
DTEND;TZID=America/Indiana/Indianapolis:20241216T185959
DTSTAMP:20260423T162703
CREATED:20240514T225920Z
LAST-MODIFIED:20250228T193549Z
UID:931-1734289200-1734375599@ispls.org
SUMMARY:Northeast Chapter Meeting
DESCRIPTION:Please RSVP by 12/10 @5pm\nAngie Wallace Email: angwallace4@gmail.com \n  \nDate: Monday\, December 16th\, 2024 @ 5:30PM \nLocation: Greenhurst Building (1710 N. Main Street\, Auburn\, IN 46706) \nMenu: Buffet Style – Ordering from Casa’s\nLasagna Pan\, Penne Bianco Pan\, and Insalata Casaburo (Casa Salad)\nCost will depend on how many attend – probably $20 or less\nSeparate email on 12/11 for payment amount\nPayments need to be made before the meeting by venmo or paypal\nBring your own beverage \nAgenda: \n\nPlans for next year\nElect next years officers\nScholarship committee member elected
URL:https://ispls.org/event/northeast-chapter-meeting-4/
LOCATION:Greenhurst Building\, 1710 N. Main Street\, Auburn\, IN\, 46706\, United States
CATEGORIES:Chapter Meetings
END:VEVENT
BEGIN:VEVENT
DTSTART;TZID=America/Indiana/Indianapolis:20241104T190000
DTEND;TZID=America/Indiana/Indianapolis:20241105T185959
DTSTAMP:20260423T162703
CREATED:20240514T225814Z
LAST-MODIFIED:20250228T193618Z
UID:927-1730746800-1730833199@ispls.org
SUMMARY:Northeast Chapter Meeting
DESCRIPTION:
URL:https://ispls.org/event/northeast-chapter-meeting-3/
CATEGORIES:Chapter Meetings
END:VEVENT
BEGIN:VEVENT
DTSTART;TZID=America/Indiana/Indianapolis:20240902T200000
DTEND;TZID=America/Indiana/Indianapolis:20240903T195959
DTSTAMP:20260423T162703
CREATED:20240514T225615Z
LAST-MODIFIED:20250228T193843Z
UID:919-1725307200-1725393599@ispls.org
SUMMARY:Northeast Chapter Meeting
DESCRIPTION:
URL:https://ispls.org/event/northeast-chapter-meeting-2/
CATEGORIES:Chapter Meetings
END:VEVENT
BEGIN:VEVENT
DTSTART;TZID=America/Indiana/Indianapolis:20240708T200000
DTEND;TZID=America/Indiana/Indianapolis:20240709T195959
DTSTAMP:20260423T162703
CREATED:20240514T225355Z
LAST-MODIFIED:20250228T193852Z
UID:915-1720468800-1720555199@ispls.org
SUMMARY:Northeast Chapter Meeting
DESCRIPTION:
URL:https://ispls.org/event/northeast-chapter-meeting/
CATEGORIES:Chapter Meetings
END:VEVENT
END:VCALENDAR