BEGIN:VCALENDAR
VERSION:2.0
PRODID:-//Indiana Society of Professional Land Surveyors - ECPv6.15.20//NONSGML v1.0//EN
CALSCALE:GREGORIAN
METHOD:PUBLISH
X-WR-CALNAME:Indiana Society of Professional Land Surveyors
X-ORIGINAL-URL:https://ispls.org
X-WR-CALDESC:Events for Indiana Society of Professional Land Surveyors
REFRESH-INTERVAL;VALUE=DURATION:PT1H
X-Robots-Tag:noindex
X-PUBLISHED-TTL:PT1H
BEGIN:VTIMEZONE
TZID:America/Indiana/Indianapolis
BEGIN:DAYLIGHT
TZOFFSETFROM:-0500
TZOFFSETTO:-0400
TZNAME:EDT
DTSTART:20240310T070000
END:DAYLIGHT
BEGIN:STANDARD
TZOFFSETFROM:-0400
TZOFFSETTO:-0500
TZNAME:EST
DTSTART:20241103T060000
END:STANDARD
BEGIN:DAYLIGHT
TZOFFSETFROM:-0500
TZOFFSETTO:-0400
TZNAME:EDT
DTSTART:20250309T070000
END:DAYLIGHT
BEGIN:STANDARD
TZOFFSETFROM:-0400
TZOFFSETTO:-0500
TZNAME:EST
DTSTART:20251102T060000
END:STANDARD
BEGIN:DAYLIGHT
TZOFFSETFROM:-0500
TZOFFSETTO:-0400
TZNAME:EDT
DTSTART:20260308T070000
END:DAYLIGHT
BEGIN:STANDARD
TZOFFSETFROM:-0400
TZOFFSETTO:-0500
TZNAME:EST
DTSTART:20261101T060000
END:STANDARD
BEGIN:DAYLIGHT
TZOFFSETFROM:-0500
TZOFFSETTO:-0400
TZNAME:EDT
DTSTART:20270314T070000
END:DAYLIGHT
BEGIN:STANDARD
TZOFFSETFROM:-0400
TZOFFSETTO:-0500
TZNAME:EST
DTSTART:20271107T060000
END:STANDARD
END:VTIMEZONE
BEGIN:VEVENT
DTSTART;TZID=America/Indiana/Indianapolis:20260421T000000
DTEND;TZID=America/Indiana/Indianapolis:20260421T235959
DTSTAMP:20260423T163807
CREATED:20260409T153901Z
LAST-MODIFIED:20260409T153901Z
UID:27582-1776729600-1776815999@ispls.org
SUMMARY:Central Indiana Chapter Meeting
DESCRIPTION:Date: Tuesday\, April 21\, 2026 \nTime: 6:00 p.m. – 8:00 p.m. \nPlace: American Structurepoint
URL:https://ispls.org/event/central-indiana-chapter-meeting-4-21-26/
LOCATION:American Structurepoint\, 9025 River Road\, Indianapolis\, IN\, United States
CATEGORIES:Chapter Meetings
END:VEVENT
BEGIN:VEVENT
DTSTART;TZID=America/Indiana/Indianapolis:20260223T000000
DTEND;TZID=America/Indiana/Indianapolis:20260223T235959
DTSTAMP:20260423T163807
CREATED:20260206T180931Z
LAST-MODIFIED:20260206T180931Z
UID:27250-1771804800-1771891199@ispls.org
SUMMARY:Central Indiana Chapter Meeting
DESCRIPTION:Date: Monday\, February 23\, 2026 \nTime: 6:00 p.m. – 8:00 p.m. \nPlace: MADE@Plainfield Rm 233 (1610 Reeves Rd.\, Plainfield\, Indiana)
URL:https://ispls.org/event/central-indiana-chapter-meeting-2-23-26/
LOCATION:MADE@Plainfield\, 1610 Reeves Rd\, Plainfield\, IN\, 46168\, United States
CATEGORIES:Chapter Meetings
END:VEVENT
BEGIN:VEVENT
DTSTART;TZID=America/Indiana/Indianapolis:20251118T180000
DTEND;TZID=America/Indiana/Indianapolis:20251118T200000
DTSTAMP:20260423T163807
CREATED:20250811T114236Z
LAST-MODIFIED:20250811T115656Z
UID:26758-1763488800-1763496000@ispls.org
SUMMARY:Central Indiana Chapter Meeting
DESCRIPTION:Date: Tuesday\, November 18\, 2025 \nPlace: TBD \nTime: 6:00 – 8:00 pm
URL:https://ispls.org/event/central-indiana-chapter-meeting-11-18-25/
CATEGORIES:Chapter Meetings
END:VEVENT
BEGIN:VEVENT
DTSTART;TZID=America/Indiana/Indianapolis:20251014T180000
DTEND;TZID=America/Indiana/Indianapolis:20251014T200000
DTSTAMP:20260423T163807
CREATED:20250811T114121Z
LAST-MODIFIED:20250811T114357Z
UID:26756-1760464800-1760472000@ispls.org
SUMMARY:Central Indiana Chapter Meeting/Seiler Instruments Fowling Event
DESCRIPTION:Date: Tuesday\, October 14\, 2025 \nPlace: Indianapolis Fowling Warehouse (1125 East Brookside Avenue\, Indianapolis\, IN 46202) \nTime: 6:00 – 8:00 pm \n  \nLimited open bar provided by Seiler Instruments \nFood provided by CIC \nPlease RSVP here: https://forms.office.com/r/RjHLjjPnrK \nAll ISPLS Members welcome
URL:https://ispls.org/event/central-indiana-chapter-meeting-10-14-25/
LOCATION:Indy Fowling\, 1125 E Brookside Ave\, Indianapolis\, IN\, 46202\, United States
CATEGORIES:Chapter Meetings
END:VEVENT
BEGIN:VEVENT
DTSTART;TZID=America/Indiana/Indianapolis:20251002T000000
DTEND;TZID=America/Indiana/Indianapolis:20251002T235959
DTSTAMP:20260423T163807
CREATED:20250808T132216Z
LAST-MODIFIED:20250808T132240Z
UID:26744-1759363200-1759449599@ispls.org
SUMMARY:Central Indiana Chapter Annual Golf Outing
DESCRIPTION:
URL:https://ispls.org/event/central-indiana-chapter-annual-golf-outing/
LOCATION:Dye’s Walk Country Club\, 2080 S State Road 135\, Greenwood\, IN\, 46143\, United States
END:VEVENT
BEGIN:VEVENT
DTSTART;TZID=America/Indiana/Indianapolis:20250915T180000
DTEND;TZID=America/Indiana/Indianapolis:20250915T200000
DTSTAMP:20260423T163807
CREATED:20250808T131739Z
LAST-MODIFIED:20250910T165028Z
UID:26740-1757959200-1757966400@ispls.org
SUMMARY:Central Indiana Chapter Meeting
DESCRIPTION:Date: Monday\, September 15\, 2025 \nTime: 6:00 – 8:00 pm \nPlace: Wessler Engineering (6219 S. East St.\, Indianapolis\, IN 46227) \nFood and drinks will be provided by Wessler.
URL:https://ispls.org/event/central-indiana-chapter-meeting-9-15-25/
LOCATION:Wessler Engineering\, 6219 S. East St.\, Indianapolis\, IN\, 46227\, United States
CATEGORIES:Chapter Meetings
END:VEVENT
BEGIN:VEVENT
DTSTART;TZID=America/Indiana/Indianapolis:20250819T180000
DTEND;TZID=America/Indiana/Indianapolis:20250819T200000
DTSTAMP:20260423T163807
CREATED:20250811T113050Z
LAST-MODIFIED:20250811T113050Z
UID:26749-1755626400-1755633600@ispls.org
SUMMARY:Central Indiana Chapter Meeting
DESCRIPTION:Meeting Date: Tuesday\, August 19\, 2025 \nMeeting Place: TBD \nMeeting Program: TBD \nMeeting Time: 6:00 – 8:00 pm
URL:https://ispls.org/event/central-indiana-chapter-meeting-8-19-25/
CATEGORIES:Chapter Meetings
END:VEVENT
END:VCALENDAR