BEGIN:VCALENDAR
VERSION:2.0
PRODID:-//Indiana Society of Professional Land Surveyors - ECPv6.15.20//NONSGML v1.0//EN
CALSCALE:GREGORIAN
METHOD:PUBLISH
X-ORIGINAL-URL:https://ispls.org
X-WR-CALDESC:Events for Indiana Society of Professional Land Surveyors
REFRESH-INTERVAL;VALUE=DURATION:PT1H
X-Robots-Tag:noindex
X-PUBLISHED-TTL:PT1H
BEGIN:VTIMEZONE
TZID:America/Indiana/Indianapolis
BEGIN:DAYLIGHT
TZOFFSETFROM:-0500
TZOFFSETTO:-0400
TZNAME:EDT
DTSTART:20240310T070000
END:DAYLIGHT
BEGIN:STANDARD
TZOFFSETFROM:-0400
TZOFFSETTO:-0500
TZNAME:EST
DTSTART:20241103T060000
END:STANDARD
BEGIN:DAYLIGHT
TZOFFSETFROM:-0500
TZOFFSETTO:-0400
TZNAME:EDT
DTSTART:20250309T070000
END:DAYLIGHT
BEGIN:STANDARD
TZOFFSETFROM:-0400
TZOFFSETTO:-0500
TZNAME:EST
DTSTART:20251102T060000
END:STANDARD
BEGIN:DAYLIGHT
TZOFFSETFROM:-0500
TZOFFSETTO:-0400
TZNAME:EDT
DTSTART:20260308T070000
END:DAYLIGHT
BEGIN:STANDARD
TZOFFSETFROM:-0400
TZOFFSETTO:-0500
TZNAME:EST
DTSTART:20261101T060000
END:STANDARD
END:VTIMEZONE
BEGIN:VEVENT
DTSTART;TZID=America/Indiana/Indianapolis:20250923T000000
DTEND;TZID=America/Indiana/Indianapolis:20250925T235959
DTSTAMP:20260424T173010
CREATED:20250715T183837Z
LAST-MODIFIED:20250819T111906Z
UID:26724-1758585600-1758844799@ispls.org
SUMMARY:JA Jobspark
DESCRIPTION:JA JobSpark is a multi-day\, hands-on career expo impacting over 10\,000 Indianapolis eighth graders. The event will take place on September 23-25 (9 am – 1 pm). \nISPLS will be there representing the surveying profession. We plan to bring our new VR headsets for the kids to engage with! \nWe need at least 6 volunteers (2 per day) to help us at the event. If you’re interested in getting young folks engaged with the surveying industry\, join us at JobSpark! \nPlease send an email to workforce@ispls.org if you are interested in participating.
URL:https://ispls.org/event/ja-jobspark/
LOCATION:Indiana State Fairgrounds & Event Center\, 1202 E 38th St\, Indianapolis\, IN\, 46205\, United States
CATEGORIES:Volunteer Opportunities
END:VEVENT
END:VCALENDAR