BEGIN:VCALENDAR
VERSION:2.0
PRODID:-//Indiana Society of Professional Land Surveyors - ECPv6.15.20//NONSGML v1.0//EN
CALSCALE:GREGORIAN
METHOD:PUBLISH
X-WR-CALNAME:Indiana Society of Professional Land Surveyors
X-ORIGINAL-URL:https://ispls.org
X-WR-CALDESC:Events for Indiana Society of Professional Land Surveyors
REFRESH-INTERVAL;VALUE=DURATION:PT1H
X-Robots-Tag:noindex
X-PUBLISHED-TTL:PT1H
BEGIN:VTIMEZONE
TZID:America/Indiana/Indianapolis
BEGIN:DAYLIGHT
TZOFFSETFROM:-0500
TZOFFSETTO:-0400
TZNAME:EDT
DTSTART:20230312T070000
END:DAYLIGHT
BEGIN:STANDARD
TZOFFSETFROM:-0400
TZOFFSETTO:-0500
TZNAME:EST
DTSTART:20231105T060000
END:STANDARD
BEGIN:DAYLIGHT
TZOFFSETFROM:-0500
TZOFFSETTO:-0400
TZNAME:EDT
DTSTART:20240310T070000
END:DAYLIGHT
BEGIN:STANDARD
TZOFFSETFROM:-0400
TZOFFSETTO:-0500
TZNAME:EST
DTSTART:20241103T060000
END:STANDARD
BEGIN:DAYLIGHT
TZOFFSETFROM:-0500
TZOFFSETTO:-0400
TZNAME:EDT
DTSTART:20250309T070000
END:DAYLIGHT
BEGIN:STANDARD
TZOFFSETFROM:-0400
TZOFFSETTO:-0500
TZNAME:EST
DTSTART:20251102T060000
END:STANDARD
END:VTIMEZONE
BEGIN:VEVENT
DTSTART;TZID=America/Indiana/Indianapolis:20241113T190000
DTEND;TZID=America/Indiana/Indianapolis:20241115T185959
DTSTAMP:20260425T112521
CREATED:20240621T210204Z
LAST-MODIFIED:20240621T210434Z
UID:11999-1731524400-1731697199@ispls.org
SUMMARY:WD Volunteer Opportunity: IN-SCA Fall Conference (2-day event)
DESCRIPTION:Nov 14-15. Need to commit by end of April for the same spot and sponsorship.\nNeed 2 volunteers daily.\n(+/- 600 participants)\n\n  \nPlease reach out to workforce@ispls.org if you are interested in volunteering.
URL:https://ispls.org/event/wd-volunteer-opportunity-in-sca-fall-conference-2-day-event/
CATEGORIES:Volunteer Opportunities
END:VEVENT
END:VCALENDAR