BEGIN:VCALENDAR
VERSION:2.0
PRODID:-//Indiana Society of Professional Land Surveyors - ECPv6.15.20//NONSGML v1.0//EN
CALSCALE:GREGORIAN
METHOD:PUBLISH
X-ORIGINAL-URL:https://ispls.org
X-WR-CALDESC:Events for Indiana Society of Professional Land Surveyors
REFRESH-INTERVAL;VALUE=DURATION:PT1H
X-Robots-Tag:noindex
X-PUBLISHED-TTL:PT1H
BEGIN:VTIMEZONE
TZID:America/Indiana/Indianapolis
BEGIN:DAYLIGHT
TZOFFSETFROM:-0500
TZOFFSETTO:-0400
TZNAME:EDT
DTSTART:20230312T070000
END:DAYLIGHT
BEGIN:STANDARD
TZOFFSETFROM:-0400
TZOFFSETTO:-0500
TZNAME:EST
DTSTART:20231105T060000
END:STANDARD
BEGIN:DAYLIGHT
TZOFFSETFROM:-0500
TZOFFSETTO:-0400
TZNAME:EDT
DTSTART:20240310T070000
END:DAYLIGHT
BEGIN:STANDARD
TZOFFSETFROM:-0400
TZOFFSETTO:-0500
TZNAME:EST
DTSTART:20241103T060000
END:STANDARD
BEGIN:DAYLIGHT
TZOFFSETFROM:-0500
TZOFFSETTO:-0400
TZNAME:EDT
DTSTART:20250309T070000
END:DAYLIGHT
BEGIN:STANDARD
TZOFFSETFROM:-0400
TZOFFSETTO:-0500
TZNAME:EST
DTSTART:20251102T060000
END:STANDARD
END:VTIMEZONE
BEGIN:VEVENT
DTSTART;TZID=America/Indiana/Indianapolis:20240902T200000
DTEND;TZID=America/Indiana/Indianapolis:20240903T195959
DTSTAMP:20260424T012301
CREATED:20240514T225615Z
LAST-MODIFIED:20250228T193843Z
UID:919-1725307200-1725393599@ispls.org
SUMMARY:Northeast Chapter Meeting
DESCRIPTION:
URL:https://ispls.org/event/northeast-chapter-meeting-2/
CATEGORIES:Chapter Meetings
END:VEVENT
BEGIN:VEVENT
DTSTART;TZID=America/Indiana/Indianapolis:20240708T200000
DTEND;TZID=America/Indiana/Indianapolis:20240709T195959
DTSTAMP:20260424T012301
CREATED:20240514T225355Z
LAST-MODIFIED:20250228T193852Z
UID:915-1720468800-1720555199@ispls.org
SUMMARY:Northeast Chapter Meeting
DESCRIPTION:
URL:https://ispls.org/event/northeast-chapter-meeting/
CATEGORIES:Chapter Meetings
END:VEVENT
BEGIN:VEVENT
DTSTART;TZID=America/Indiana/Indianapolis:20240624T140000
DTEND;TZID=America/Indiana/Indianapolis:20240624T160000
DTSTAMP:20260424T012301
CREATED:20240514T225300Z
LAST-MODIFIED:20250228T193859Z
UID:912-1719237600-1719244800@ispls.org
SUMMARY:Hoosier Hills Chapter Meeting
DESCRIPTION:When: Monday\, June 24\, 2024 \nWhere: Brown County Public Library (Meeting Room) \n205 Locust Lane\, Nashville\, IN 47448 \n(Please park in Lower Level Parking Lot outside the meeting room entrance) \n  \nTime: 6-8pm (Meeting) \n  \nAgenda Items: \n\nScholarship Award\nFundraising Event
URL:https://ispls.org/event/hoosier-hills-chapter-meeting/
LOCATION:Brown County Library Meeting Room\, 205 Locust Ln\, Nashville\, IN\, 47448\, United States
CATEGORIES:Chapter Meetings
END:VEVENT
BEGIN:VEVENT
DTSTART;TZID=America/Indiana/Indianapolis:20240620T140000
DTEND;TZID=America/Indiana/Indianapolis:20240620T160000
DTSTAMP:20260424T012301
CREATED:20240606T200017Z
LAST-MODIFIED:20250228T193918Z
UID:1048-1718892000-1718899200@ispls.org
SUMMARY:Initial Point Chapter Meeting
DESCRIPTION:
URL:https://ispls.org/event/initial-point-chapter-meeting/
LOCATION:Borden Museum\, 101 E. Main St.\, Borden\, IN\, 47106\, United States
CATEGORIES:Chapter Meetings
END:VEVENT
BEGIN:VEVENT
DTSTART;TZID=America/Indiana/Indianapolis:20240517T073000
DTEND;TZID=America/Indiana/Indianapolis:20240517T103000
DTSTAMP:20260424T012301
CREATED:20240514T182047Z
LAST-MODIFIED:20240514T225029Z
UID:889-1715931000-1715941800@ispls.org
SUMMARY:Fast Friday with ASCE
DESCRIPTION:This CIC group outing is scheduled for May 17th (Fast Friday Practice) at Big Woods Restaurant in Speedway.  It will be a joint outing with the ASCE\, ITE and IRWA members and is limited to 100 total seats.  If you are interested in attending\, please use the link below to sign up. If you want to visit the track during the day\, you will need to purchase your track ticket separately at IMS. \nFast Friday with ASCE (constantcontactpages.com) \n11:30am – 2:30pm     Open Beer and Wine Bar\, Pizza\, Socializing at Big Woods Speedway \n\nASCE Members: $35.00\nCIC-ISPLS\, IRWA & ITE Members: $35.00\nNon-Members $55.00\nLife Members: $20.00\nPublic Agency & Government Employees: $25.00\n\nNote: Track passes are not included and must be purchased separately.
URL:https://ispls.org/event/fast-friday-with-asce/
LOCATION:Big Woods-Speedway\, 1002 N Main St\, Speedway\, IN\, 46224\, United States
CATEGORIES:Chapter Meetings
END:VEVENT
END:VCALENDAR