BEGIN:VCALENDAR
VERSION:2.0
PRODID:-//Indiana Society of Professional Land Surveyors - ECPv6.15.20//NONSGML v1.0//EN
CALSCALE:GREGORIAN
METHOD:PUBLISH
X-WR-CALNAME:Indiana Society of Professional Land Surveyors
X-ORIGINAL-URL:https://ispls.org
X-WR-CALDESC:Events for Indiana Society of Professional Land Surveyors
REFRESH-INTERVAL;VALUE=DURATION:PT1H
X-Robots-Tag:noindex
X-PUBLISHED-TTL:PT1H
BEGIN:VTIMEZONE
TZID:America/Indiana/Indianapolis
BEGIN:DAYLIGHT
TZOFFSETFROM:-0500
TZOFFSETTO:-0400
TZNAME:EDT
DTSTART:20240310T070000
END:DAYLIGHT
BEGIN:STANDARD
TZOFFSETFROM:-0400
TZOFFSETTO:-0500
TZNAME:EST
DTSTART:20241103T060000
END:STANDARD
BEGIN:DAYLIGHT
TZOFFSETFROM:-0500
TZOFFSETTO:-0400
TZNAME:EDT
DTSTART:20250309T070000
END:DAYLIGHT
BEGIN:STANDARD
TZOFFSETFROM:-0400
TZOFFSETTO:-0500
TZNAME:EST
DTSTART:20251102T060000
END:STANDARD
BEGIN:DAYLIGHT
TZOFFSETFROM:-0500
TZOFFSETTO:-0400
TZNAME:EDT
DTSTART:20260308T070000
END:DAYLIGHT
BEGIN:STANDARD
TZOFFSETFROM:-0400
TZOFFSETTO:-0500
TZNAME:EST
DTSTART:20261101T060000
END:STANDARD
END:VTIMEZONE
BEGIN:VEVENT
DTSTART;TZID=America/Indiana/Indianapolis:20251222T173000
DTEND;TZID=America/Indiana/Indianapolis:20251222T193000
DTSTAMP:20260424T014628
CREATED:20251205T171038Z
LAST-MODIFIED:20251205T171038Z
UID:27183-1766424600-1766431800@ispls.org
SUMMARY:Northeast Chapter Meeting
DESCRIPTION:Date: Monday\, December 22\, 2025 \nTime: 5:30 pm \nPlace: On the Mark Land Surveying Office (7729 Westfield Drive\, Fort Wayne\, IN 46825) \nPlease RSVP by 12/16 @ noon to angwallace4@gmail.com \n  \nMenu: Ordering Casa’s (RSVP to be included for food) \nBuffet Style – Lasagna Pan\, Penne Bianco Pan\, and Insalata Casaburo (Casa Salad) \nBring your own beverage \n  \nAgenda: \n\nPlans for next year’s meeting and format\nElect next year’s officers\nPlanning for 2027 Convention in Fort Wayne – volunteers needed\nDiscussion of your choice
URL:https://ispls.org/event/northeast-chapter-meeting-12-22-25/
LOCATION:On The Mark Land Surveying Office\, 7729 Westfield Drive\, Fort Wayne\, IN\, 46825\, United States
CATEGORIES:Chapter Meetings
END:VEVENT
END:VCALENDAR