BEGIN:VCALENDAR
VERSION:2.0
PRODID:-//Indiana Society of Professional Land Surveyors - ECPv6.15.20//NONSGML v1.0//EN
CALSCALE:GREGORIAN
METHOD:PUBLISH
X-WR-CALNAME:Indiana Society of Professional Land Surveyors
X-ORIGINAL-URL:https://ispls.org
X-WR-CALDESC:Events for Indiana Society of Professional Land Surveyors
REFRESH-INTERVAL;VALUE=DURATION:PT1H
X-Robots-Tag:noindex
X-PUBLISHED-TTL:PT1H
BEGIN:VTIMEZONE
TZID:America/Indiana/Indianapolis
BEGIN:DAYLIGHT
TZOFFSETFROM:-0500
TZOFFSETTO:-0400
TZNAME:EDT
DTSTART:20240310T070000
END:DAYLIGHT
BEGIN:STANDARD
TZOFFSETFROM:-0400
TZOFFSETTO:-0500
TZNAME:EST
DTSTART:20241103T060000
END:STANDARD
BEGIN:DAYLIGHT
TZOFFSETFROM:-0500
TZOFFSETTO:-0400
TZNAME:EDT
DTSTART:20250309T070000
END:DAYLIGHT
BEGIN:STANDARD
TZOFFSETFROM:-0400
TZOFFSETTO:-0500
TZNAME:EST
DTSTART:20251102T060000
END:STANDARD
BEGIN:DAYLIGHT
TZOFFSETFROM:-0500
TZOFFSETTO:-0400
TZNAME:EDT
DTSTART:20260308T070000
END:DAYLIGHT
BEGIN:STANDARD
TZOFFSETFROM:-0400
TZOFFSETTO:-0500
TZNAME:EST
DTSTART:20261101T060000
END:STANDARD
END:VTIMEZONE
BEGIN:VEVENT
DTSTART;TZID=America/Indiana/Indianapolis:20251009T000000
DTEND;TZID=America/Indiana/Indianapolis:20251009T235959
DTSTAMP:20260424T051626
CREATED:20250130T132754Z
LAST-MODIFIED:20250228T193318Z
UID:25956-1759968000-1760054399@ispls.org
SUMMARY:Northwest Chapter Meeting
DESCRIPTION:Meeting Date: Thursday\, October 9\, 2025 \nMeeting Place: TBD \nMeeting Program: TBD \nMeeting Time: TBD
URL:https://ispls.org/event/northwest-chapter-meeting-10-9-25/
CATEGORIES:Chapter Meetings
END:VEVENT
BEGIN:VEVENT
DTSTART;TZID=America/Indiana/Indianapolis:20251014T180000
DTEND;TZID=America/Indiana/Indianapolis:20251014T200000
DTSTAMP:20260424T051626
CREATED:20250811T114121Z
LAST-MODIFIED:20250811T114357Z
UID:26756-1760464800-1760472000@ispls.org
SUMMARY:Central Indiana Chapter Meeting/Seiler Instruments Fowling Event
DESCRIPTION:Date: Tuesday\, October 14\, 2025 \nPlace: Indianapolis Fowling Warehouse (1125 East Brookside Avenue\, Indianapolis\, IN 46202) \nTime: 6:00 – 8:00 pm \n  \nLimited open bar provided by Seiler Instruments \nFood provided by CIC \nPlease RSVP here: https://forms.office.com/r/RjHLjjPnrK \nAll ISPLS Members welcome
URL:https://ispls.org/event/central-indiana-chapter-meeting-10-14-25/
LOCATION:Indy Fowling\, 1125 E Brookside Ave\, Indianapolis\, IN\, 46202\, United States
CATEGORIES:Chapter Meetings
END:VEVENT
BEGIN:VEVENT
DTSTART;TZID=America/Indiana/Indianapolis:20251022T180000
DTEND;TZID=America/Indiana/Indianapolis:20251022T200000
DTSTAMP:20260424T051626
CREATED:20250915T164649Z
LAST-MODIFIED:20251017T161223Z
UID:26776-1761156000-1761163200@ispls.org
SUMMARY:Hoosier Hills Chapter Meeting
DESCRIPTION:Date: Wednesday\, October 22\, 2025 \nTime: 6:00 p.m. – 8:00 p.m. \nPlace: BROWN COUNTY PUBLIC LIBRARY\, Mtg Room “A”\, 205 Locust Lane\, Nashville\, IN 47448 \nProgram:  \n\nFundraiser Recap\nChapter Officer Elections\n\n 
URL:https://ispls.org/event/hoosier-hills-chapter-meeting-10-22-25/
LOCATION:Brown County Library Meeting Room\, 205 Locust Ln\, Nashville\, IN\, 47448\, United States
CATEGORIES:Chapter Meetings
END:VEVENT
END:VCALENDAR