BEGIN:VCALENDAR
VERSION:2.0
PRODID:-//Indiana Society of Professional Land Surveyors - ECPv6.15.20//NONSGML v1.0//EN
CALSCALE:GREGORIAN
METHOD:PUBLISH
X-ORIGINAL-URL:https://ispls.org
X-WR-CALDESC:Events for Indiana Society of Professional Land Surveyors
REFRESH-INTERVAL;VALUE=DURATION:PT1H
X-Robots-Tag:noindex
X-PUBLISHED-TTL:PT1H
BEGIN:VTIMEZONE
TZID:America/Indiana/Indianapolis
BEGIN:DAYLIGHT
TZOFFSETFROM:-0500
TZOFFSETTO:-0400
TZNAME:EDT
DTSTART:20240310T070000
END:DAYLIGHT
BEGIN:STANDARD
TZOFFSETFROM:-0400
TZOFFSETTO:-0500
TZNAME:EST
DTSTART:20241103T060000
END:STANDARD
BEGIN:DAYLIGHT
TZOFFSETFROM:-0500
TZOFFSETTO:-0400
TZNAME:EDT
DTSTART:20250309T070000
END:DAYLIGHT
BEGIN:STANDARD
TZOFFSETFROM:-0400
TZOFFSETTO:-0500
TZNAME:EST
DTSTART:20251102T060000
END:STANDARD
BEGIN:DAYLIGHT
TZOFFSETFROM:-0500
TZOFFSETTO:-0400
TZNAME:EDT
DTSTART:20260308T070000
END:DAYLIGHT
BEGIN:STANDARD
TZOFFSETFROM:-0400
TZOFFSETTO:-0500
TZNAME:EST
DTSTART:20261101T060000
END:STANDARD
END:VTIMEZONE
BEGIN:VEVENT
DTSTART;TZID=America/Indiana/Indianapolis:20250911T180000
DTEND;TZID=America/Indiana/Indianapolis:20250911T200000
DTSTAMP:20260424T071520
CREATED:20250130T132655Z
LAST-MODIFIED:20250818T170718Z
UID:25954-1757613600-1757620800@ispls.org
SUMMARY:Northwest & St. Joseph Valley Chapter Meeting
DESCRIPTION:Date: Thursday\, September 11\, 2025 \nPlace: Portofino Gold Course Bar and Grill (3233 IN 39\, LaPorte\, IN 46350) \nProgram: \n\nJoint Meeting/Sandbox Review\nState\, Foundation\, and Workforce Development Leadership\n\nMeeting Time: 6:00 pm – 8:00 pm \n  \nIt has become necessary to determine meeting attendance numbers prior to the day of the meeting.  This will assist the Chapter and the restaurant in planning for the meeting.  Therefore\, please call\, fax or email one or both of the following by Tuesday\, September 2\, 2025 if you plan to attend. \n  \nRich Hudson \nPhone:  (219) 462-2946 (Cell) \nEmail:  rickandcal@comcast.net \n  \nGlen Boren \nPhone:  (219) 6163191 (Cell) \nFax:  (219) 662-2740 (Bus) \nEmail:  gboren@dvgteam.com
URL:https://ispls.org/event/northwest-chapter-meeting-9-11-25/
LOCATION:Portofino Golf Course Bar & Grill\, 3233 IN 39\, LaPorte\, IN\, 46350\, United States
CATEGORIES:Chapter Meetings
END:VEVENT
BEGIN:VEVENT
DTSTART;TZID=America/Indiana/Indianapolis:20250915T180000
DTEND;TZID=America/Indiana/Indianapolis:20250915T200000
DTSTAMP:20260424T071520
CREATED:20250808T131739Z
LAST-MODIFIED:20250910T165028Z
UID:26740-1757959200-1757966400@ispls.org
SUMMARY:Central Indiana Chapter Meeting
DESCRIPTION:Date: Monday\, September 15\, 2025 \nTime: 6:00 – 8:00 pm \nPlace: Wessler Engineering (6219 S. East St.\, Indianapolis\, IN 46227) \nFood and drinks will be provided by Wessler.
URL:https://ispls.org/event/central-indiana-chapter-meeting-9-15-25/
LOCATION:Wessler Engineering\, 6219 S. East St.\, Indianapolis\, IN\, 46227\, United States
CATEGORIES:Chapter Meetings
END:VEVENT
BEGIN:VEVENT
DTSTART;TZID=America/Indiana/Indianapolis:20250916T173000
DTEND;TZID=America/Indiana/Indianapolis:20250916T193000
DTSTAMP:20260424T071520
CREATED:20250408T164552Z
LAST-MODIFIED:20250408T164552Z
UID:26445-1758043800-1758051000@ispls.org
SUMMARY:Southwest Chapter Meeting
DESCRIPTION:
URL:https://ispls.org/event/southwest-chapter-meeting-9-16-25/
LOCATION:Taylor’s II\, 518 East Morton Street\, Oakland City\, IN\, 47660\, United States
CATEGORIES:Chapter Meetings
END:VEVENT
END:VCALENDAR