BEGIN:VCALENDAR
VERSION:2.0
PRODID:-//Indiana Society of Professional Land Surveyors - ECPv6.15.20//NONSGML v1.0//EN
CALSCALE:GREGORIAN
METHOD:PUBLISH
X-ORIGINAL-URL:https://ispls.org
X-WR-CALDESC:Events for Indiana Society of Professional Land Surveyors
REFRESH-INTERVAL;VALUE=DURATION:PT1H
X-Robots-Tag:noindex
X-PUBLISHED-TTL:PT1H
BEGIN:VTIMEZONE
TZID:America/Indiana/Indianapolis
BEGIN:DAYLIGHT
TZOFFSETFROM:-0500
TZOFFSETTO:-0400
TZNAME:EDT
DTSTART:20250309T070000
END:DAYLIGHT
BEGIN:STANDARD
TZOFFSETFROM:-0400
TZOFFSETTO:-0500
TZNAME:EST
DTSTART:20251102T060000
END:STANDARD
BEGIN:DAYLIGHT
TZOFFSETFROM:-0500
TZOFFSETTO:-0400
TZNAME:EDT
DTSTART:20260308T070000
END:DAYLIGHT
BEGIN:STANDARD
TZOFFSETFROM:-0400
TZOFFSETTO:-0500
TZNAME:EST
DTSTART:20261101T060000
END:STANDARD
BEGIN:DAYLIGHT
TZOFFSETFROM:-0500
TZOFFSETTO:-0400
TZNAME:EDT
DTSTART:20270314T070000
END:DAYLIGHT
BEGIN:STANDARD
TZOFFSETFROM:-0400
TZOFFSETTO:-0500
TZNAME:EST
DTSTART:20271107T060000
END:STANDARD
END:VTIMEZONE
BEGIN:VEVENT
DTSTART;TZID=America/Indiana/Indianapolis:20260514T000000
DTEND;TZID=America/Indiana/Indianapolis:20260514T235959
DTSTAMP:20260423T191009
CREATED:20260416T124045Z
LAST-MODIFIED:20260416T124045Z
UID:27601-1778716800-1778803199@ispls.org
SUMMARY:Northwest & St. Joseph Valley Chapter Meeting
DESCRIPTION:Date: Thursday\, May 14\, 2026 \nPlace: Waterford Inn II (6466 W. Johnson Rd\, LaPorte\, IN 46350) \nProgram: \n\nISPLS President-Elect Jacob Hoffman\, PS and meeting attendees will participate in an information conversation including Q&A related to “2026 ISPLS Board of Directors and Beyond” and “What Makes an Active ISPLS Chapter”\n\nMeeting Time: 6:30 p.m. ET / 5:30 p.m. CT \n \nIt has become necessary to determine meeting attendance numbers prior to the day of the meeting.  This will assist the Chapters and the restaurant in planning for the meeting.  Therefore\, please call\, fax or email one or both of the following by Thursday\, April 30\, 2026 if you plan to attend. \n  \nRich Hudson \nPhone:  (219) 462-2946 (Cell) \nEmail:  rickandcal@comcast.net \n  \nGlen Boren \nPhone:  (219) 6163191 (Cell) \nFax:  (219) 662-2740 (Bus) \nEmail:  gboren@dvgteam.com
URL:https://ispls.org/event/northwest-st-joseph-valley-chapter-meeting-5-14-26/
LOCATION:Waterford Inn II\, 6466 W. Johnson Rd\, LaPorte\, 46350\, United States
CATEGORIES:Chapter Meetings
END:VEVENT
END:VCALENDAR